BEGIN:VCALENDAR
VERSION:2.0
PRODID:-//Hildasholm - ECPv6.15.20//NONSGML v1.0//EN
CALSCALE:GREGORIAN
METHOD:PUBLISH
X-WR-CALNAME:Hildasholm
X-ORIGINAL-URL:https://hildasholm.org/en
X-WR-CALDESC:Events for Hildasholm
REFRESH-INTERVAL;VALUE=DURATION:PT1H
X-Robots-Tag:noindex
X-PUBLISHED-TTL:PT1H
BEGIN:VTIMEZONE
TZID:Europe/Paris
BEGIN:DAYLIGHT
TZOFFSETFROM:+0100
TZOFFSETTO:+0200
TZNAME:CEST
DTSTART:20250330T010000
END:DAYLIGHT
BEGIN:STANDARD
TZOFFSETFROM:+0200
TZOFFSETTO:+0100
TZNAME:CET
DTSTART:20251026T010000
END:STANDARD
BEGIN:DAYLIGHT
TZOFFSETFROM:+0100
TZOFFSETTO:+0200
TZNAME:CEST
DTSTART:20260329T010000
END:DAYLIGHT
BEGIN:STANDARD
TZOFFSETFROM:+0200
TZOFFSETTO:+0100
TZNAME:CET
DTSTART:20261025T010000
END:STANDARD
BEGIN:DAYLIGHT
TZOFFSETFROM:+0100
TZOFFSETTO:+0200
TZNAME:CEST
DTSTART:20270328T010000
END:DAYLIGHT
BEGIN:STANDARD
TZOFFSETFROM:+0200
TZOFFSETTO:+0100
TZNAME:CET
DTSTART:20271031T010000
END:STANDARD
END:VTIMEZONE
BEGIN:VEVENT
DTSTART;TZID=Europe/Paris:20260514T103000
DTEND;TZID=Europe/Paris:20260514T150000
DTSTAMP:20260424T140130
CREATED:20260311T081550Z
LAST-MODIFIED:20260311T081552Z
UID:2987-1778754600-1778770800@hildasholm.org
SUMMARY:Invigning av säsongen på Hildasholm
DESCRIPTION:Torsdag 14 maj öppnar Hildasholm för säsongen\, och vi bjuder in till en premiärdag med konst\, kafé och invigningstal av landshövding Helena Höij.  \n\n\n\nProgram för lördagen: \n\n\n\n\nKl. 10.30: Vi öppnar grindarna + flaggar\n\n\n\nKl. 11.00:  Invigningstal av landshövding Helena Höij\n\n\n\nKl 12.00: Guidad visning av huset (boka biljett)\n\n\n\nKl 13.00: Guidad visning av huset (boka biljett)\n\n\n\nÖppet hela dagen:– Skulpturer i parken– Hildas kafé – Museibutiken\n\n\n\nKl 16.00: Grindarna stänger\n\n\n\nKl 16.00: Årsmöte för vänföreningen Hildas vänner \n\n\n\n\nVälkommen till en ny säsong på Hildasholm!
URL:https://hildasholm.org/en/event/invigning-av-sasongen-pa-hildasholm-2/
CATEGORIES:övrigt
ATTACH;FMTTYPE=image/webp:https://hildasholm.org/wp-content/uploads/2025/08/Hildasholm-Evenemang-2.jpg
END:VEVENT
BEGIN:VEVENT
DTSTART;TZID=Europe/Paris:20260704T130000
DTEND;TZID=Europe/Paris:20260704T160000
DTSTAMP:20260424T140130
CREATED:20260330T152944Z
LAST-MODIFIED:20260330T152948Z
UID:3096-1783170000-1783180800@hildasholm.org
SUMMARY:Workshop: Skapa din egen gräskrona
DESCRIPTION:Vill du utforska din kreativitet och skapa något vackert med naturens material? Under denna workshop får du möjlighet att skapa din egen gräskrona\, en kombination av traditionellt hantverk och modern design. \n\n\n\nTillsammans med floristen och blomsterinspiratören Karin Stigsdotter får du personlig handledning i att binda en vacker gräskrona. Inga förkunskaper krävs – workshopen är öppen för alla som vill lära sig något nytt och skapa med sina egna händer. Det gräs Du vill använda till Din krona plockar Du i förväg och tar med till workshopen. \n\n\n\nVad ingår? \n\n\n\n\nGenomgång av utvalda tekniker för att binda en gräskrona\n\n\n\nInspiration och vägledning av en professionell florist\n\n\n\nMöjlighet att skapa ett unikt konstverk i naturmaterial\n\n\n\nAllt övrigt\, nödvändigt material ingår \, bortsett från gräset.\n\n\n\n\nObs! Gräset plockar du i förväg och tar med till workshopen. \n\n\n\nDatum & tid: 4 juli 2026 kl.13:00–16:00 \n\n\n\nMax antal deltagare: 10 personer \n\n\n\nPris: 1300 kr per person \n\n\n\nPlats: Hildasholm \n\n\n\nAnmälan sker via Tickster. \n\n\n\nVälkommen till en kreativ och inspirerande eftermiddag i vacker miljö!
URL:https://hildasholm.org/en/event/workshop-skapa-din-egen-graskrona/
CATEGORIES:workshop
ATTACH;FMTTYPE=image/jpeg:https://hildasholm.org/wp-content/uploads/2026/03/Skapa-din-egen-graskrona-2.jpg
END:VEVENT
BEGIN:VEVENT
DTSTART;TZID=Europe/Paris:20260705T140000
DTEND;TZID=Europe/Paris:20260705T170000
DTSTAMP:20260424T140130
CREATED:20260416T091716Z
LAST-MODIFIED:20260416T091718Z
UID:3129-1783260000-1783270800@hildasholm.org
SUMMARY:Biblioterapi på Hildasholm - tema barndom
DESCRIPTION:Den 5 och 12 juli öppnar Hildasholm dörrarna för dig som längtar efter en plats att andas. Med hjälp av poesi\, samtal och eget skrivande öppnar vi upp för nya slags samtal\, både inom oss själva och med varandra. \n\n\n\nI juli bjuder vi in till två tillfällen: \n\n\n\n5 juli kl. 14.00–17.00Tema: Barndom \n\n\n\n12 juli kl. 14.00–17.00Tema: Visdom \n\n\n\nPris: 250 kr per tillfälle och person. \n\n\n\nAnmälan görs senast en vecka före respektive aktivitet. Antalet platser är begränsat till 8 personer per tillfälle\, så först till kvarn gäller. \n\n\n\nAnmälan: louise.lind.nu@gmail.comBetalning via Swish: 0707798822Skriv ditt namn i meddelandet så att vi vet vem som har betalat. \n\n\n\nVarmt välkommen!
URL:https://hildasholm.org/en/event/biblioterapi-pa-hildasholm-tema-barndom/
CATEGORIES:workshop
ATTACH;FMTTYPE=image/jpeg:https://hildasholm.org/wp-content/uploads/2026/04/Biblioterapi-e1776330980752.jpeg
END:VEVENT
BEGIN:VEVENT
DTSTART;TZID=Europe/Paris:20260707T110000
DTEND;TZID=Europe/Paris:20260710T160000
DTSTAMP:20260424T140130
CREATED:20260330T151110Z
LAST-MODIFIED:20260330T151118Z
UID:3092-1783422000-1783699200@hildasholm.org
SUMMARY:Barnteaterveckan
DESCRIPTION:Barnteaterveckan återvänder till Hildasholm vecka 28.  \n\n\n\nKom hela familjen och låt er inspireras av en fantastisk miljö! Ta del av föreställningar\, upptäck trädgården  eller gå en familjevisning och lär känna Hildasholm och dess rika historia av fantasi\, kreativitet och drama.  \n\n\n\nFramför allt – kom och lek\, skapa och inspireras i en sagomiljö – där allt var och fortfarande är möjligt! \n\n\n\nMer information hittar ni på barnteaterveckan.se
URL:https://hildasholm.org/en/event/barnteaterveckan/
CATEGORIES:övrigt
ATTACH;FMTTYPE=image/jpeg:https://hildasholm.org/wp-content/uploads/2026/03/solo-forma-1.jpg
END:VEVENT
BEGIN:VEVENT
DTSTART;TZID=Europe/Paris:20260711T103000
DTEND;TZID=Europe/Paris:20260711T140000
DTSTAMP:20260424T140130
CREATED:20260422T140231Z
LAST-MODIFIED:20260422T140233Z
UID:3140-1783765800-1783778400@hildasholm.org
SUMMARY:Cyanotypi - skapa med växter och solljus
DESCRIPTION:Välkommen till en kreativ och lustfylld workshop på Hildasholm – en plats där tiden får sakta ner och där trädgårdarna bjuder in till stillhet och inspiration. \n\n\n\nMed hjälp av solljus och växter du själv plockar i trädgårdarna skapar du bilder i blå toner genom cyanotypi. Du arbetar med växternas former på papper – ett enkelt och fint sätt att skapa\, där du inte behöver kunna teckna eller måla. \n\n\n\nHär släpper vi prestation och landar i skaparglädje\, i en varm och tillåtande atmosfär. Du behöver inga förkunskaper – kom precis som du är. \n\n\n\nPraktisk informationDatum: 11 juliTid: kl. 10.30–14.00Pris: 2000 kr \n\n\n\nAllt material\, lunch samt kaffe/te ingårDu får med dig dina egna bilder hem \n\n\n\nLäs mer och boka din plats här: https://www.marialindenart.se/kurser
URL:https://hildasholm.org/en/event/cyanotypi-skapa-med-vaxter-och-solljus/
CATEGORIES:workshop
ATTACH;FMTTYPE=image/jpeg:https://hildasholm.org/wp-content/uploads/2026/04/Cyanotypi.jpg
END:VEVENT
BEGIN:VEVENT
DTSTART;TZID=Europe/Paris:20260712T140000
DTEND;TZID=Europe/Paris:20260712T170000
DTSTAMP:20260424T140130
CREATED:20260416T091858Z
LAST-MODIFIED:20260416T091901Z
UID:3132-1783864800-1783875600@hildasholm.org
SUMMARY:Biblioterapi på Hildasholm - tema visdom
DESCRIPTION:Den 5 och 12 juli öppnar Hildasholm dörrarna för dig som längtar efter en plats att andas. Med hjälp av poesi\, samtal och eget skrivande öppnar vi upp för nya slags samtal\, både inom oss själva och med varandra. \n\n\n\nI juli bjuder vi in till två tillfällen: \n\n\n\n5 juli kl. 14.00–17.00Tema: Barndom \n\n\n\n12 juli kl. 14.00–17.00Tema: Visdom \n\n\n\nPris: 250 kr per tillfälle och person. \n\n\n\nAnmälan görs senast en vecka före respektive aktivitet. Antalet platser är begränsat till 8 personer per tillfälle\, så först till kvarn gäller. \n\n\n\nAnmälan: louise.lind.nu@gmail.comBetalning via Swish: 0707798822Skriv ditt namn i meddelandet så att vi vet vem som har betalat. \n\n\n\nVarmt välkommen!
URL:https://hildasholm.org/en/event/biblioterapi-pa-hildasholm-tema-visdom/
CATEGORIES:workshop
ATTACH;FMTTYPE=image/jpeg:https://hildasholm.org/wp-content/uploads/2026/04/Biblioterapi-e1776330980752.jpeg
END:VEVENT
BEGIN:VEVENT
DTSTART;TZID=Europe/Paris:20260714T160000
DTEND;TZID=Europe/Paris:20260714T170000
DTSTAMP:20260424T140130
CREATED:20260422T143149Z
LAST-MODIFIED:20260422T143150Z
UID:3125-1784044800-1784048400@hildasholm.org
SUMMARY:En sagovärld - marionetter och barnkultur hos familjen Munthe
DESCRIPTION:Vad är en barndom och vad består den av?  \n\n\n\nIdag uppfattas barndomen som någonting speciellt och skilt från det vuxna livet\, men för 200 år sedan och dessförinnan var barn helt enkelt bara små vuxna. Men under det sena 1800-talet började man\, i de högre samhällsskicken\, gestalta barndomen som någonting magiskt.  \n\n\n\nDessa idéer var särskilt starka i England och kom att lämna djupa intryck på Hilda Pennington-Mellor vad gäller barnuppfostran. Hon iscensatte Peter och Malcolms barndom med teater\, barnlitteratur\, och dockor och det är ibland svårt att skilja mellan vad som var för pojkarna och vad som var för henne själv.  \n\n\n\nHildasholms marionettsamling består av över 200 föremål och ger en spännande blick in i ett tidigt stadium av vår moderna syn på barn.  \n\n\n\nOstwald Au-Yeung kommer att presentera ett axplock från samlingen och diskutera den engelska barnkulturen som familjen Munthe representerade. 
URL:https://hildasholm.org/en/event/en-sagovarld-marionetter-och-barnkultur-hos-familjen-munthe/
CATEGORIES:föredrag
ATTACH;FMTTYPE=image/jpeg:https://hildasholm.org/wp-content/uploads/2026/04/IMG_3135-scaled-e1776330129181.jpg
END:VEVENT
BEGIN:VEVENT
DTSTART;TZID=Europe/Paris:20260730T190000
DTEND;TZID=Europe/Paris:20260730T200000
DTSTAMP:20260424T140130
CREATED:20260319T112759Z
LAST-MODIFIED:20260319T123202Z
UID:3029-1785438000-1785441600@hildasholm.org
SUMMARY:Premiär: Hilda – musikteater på Hildasholm
DESCRIPTION:I sommar fyller vår Hilda 150 år och bjuder in till stort kalas! \n\n\n\nVälkomna att tillsammans med oss fira Hildas enastående kreativitet och hylla fantasin som meningsskapande kraft.  \n\n\n\nNi bjuds in till salong med musikteater av och med musikerna Sofia Sandén\, Johanna Dahl och Sara Fridholm\, med skådespelarna Sofia Rönnegård och Hilda Stenshäll\, i samarbete med Leksands marionett- och figurteaterförening.  \n\n\n\nEn upplevelse där vi slungas tillbaka i tiden och samtidigt in i den tidlösa sagovärld där vi alla är fria och mot en framtid där allt är möjligt! \n\n\n\nDatum och tider30 juli kl. 19.00 – premiär31 juli kl. 16.00 och 19.001 augusti kl. 16.00 och 19.00 \n\n\n\nPlatsHildasholm\, salongen \n\n\n\nBiljetterVuxen: 350 kr (inkl. alkoholfritt bubbel)Ungdom/student: 275 kr (inkl. alkoholfritt bubbel) \n\n\n\nTillgänglighetFöreställningen hålls i salongen och lokalen är tyvärr inte tillgänglighetsanpassad.
URL:https://hildasholm.org/en/event/premiar-hilda-musikteater-pa-hildasholm/
CATEGORIES:konsert
ATTACH;FMTTYPE=image/jpeg:https://hildasholm.org/wp-content/uploads/2026/03/Hilda-16-9.jpg
END:VEVENT
BEGIN:VEVENT
DTSTART;TZID=Europe/Paris:20260731T160000
DTEND;TZID=Europe/Paris:20260731T170000
DTSTAMP:20260424T140130
CREATED:20260319T112817Z
LAST-MODIFIED:20260319T123142Z
UID:3039-1785513600-1785517200@hildasholm.org
SUMMARY:Matiné: Hilda – musikteater på Hildasholm
DESCRIPTION:I sommar fyller vår Hilda 150 år och bjuder in till stort kalas! \n\n\n\nVälkomna att tillsammans med oss fira Hildas enastående kreativitet och hylla fantasin som meningsskapande kraft.  \n\n\n\nNi bjuds in till salong med musikteater av och med musikerna Sofia Sandén\, Johanna Dahl och Sara Fridholm\, med skådespelarna Sofia Rönnegård och Hilda Stenshäll\, i samarbete med Leksands marionett- och figurteaterförening.  \n\n\n\nEn upplevelse där vi slungas tillbaka i tiden och samtidigt in i den tidlösa sagovärld där vi alla är fria och mot en framtid där allt är möjligt! \n\n\n\nDatum och tider30 juli kl. 19.00 – premiär31 juli kl. 16.00 och 19.001 augusti kl. 16.00 och 19.00 \n\n\n\nPlatsHildasholm\, salongen \n\n\n\nBiljetterVuxen: 350 kr (inkl. alkoholfritt bubbel)Ungdom/student: 275 kr (inkl. alkoholfritt bubbel) \n\n\n\nTillgänglighetFöreställningen hålls i salongen och lokalen är tyvärr inte tillgänglighetsanpassad.
URL:https://hildasholm.org/en/event/matine-hilda-musikteater-pa-hildasholm-2/
CATEGORIES:konsert
ATTACH;FMTTYPE=image/jpeg:https://hildasholm.org/wp-content/uploads/2026/03/Hilda-16-9.jpg
END:VEVENT
BEGIN:VEVENT
DTSTART;TZID=Europe/Paris:20260731T190000
DTEND;TZID=Europe/Paris:20260731T200000
DTSTAMP:20260424T140130
CREATED:20260319T112805Z
LAST-MODIFIED:20260319T123121Z
UID:3041-1785524400-1785528000@hildasholm.org
SUMMARY:Hilda – musikteater på Hildasholm
DESCRIPTION:I sommar fyller vår Hilda 150 år och bjuder in till stort kalas! \n\n\n\nVälkomna att tillsammans med oss fira Hildas enastående kreativitet och hylla fantasin som meningsskapande kraft.  \n\n\n\nNi bjuds in till salong med musikteater av och med musikerna Sofia Sandén\, Johanna Dahl och Sara Fridholm\, med skådespelarna Sofia Rönnegård och Hilda Stenshäll\, i samarbete med Leksands marionett- och figurteaterförening.  \n\n\n\nEn upplevelse där vi slungas tillbaka i tiden och samtidigt in i den tidlösa sagovärld där vi alla är fria och mot en framtid där allt är möjligt! \n\n\n\nDatum och tider30 juli kl. 19.00 – premiär31 juli kl. 16.00 och 19.001 augusti kl. 16.00 och 19.00 \n\n\n\nPlatsHildasholm\, salongen \n\n\n\nBiljetterVuxen: 350 kr (inkl. alkoholfritt bubbel)Ungdom/student: 275 kr (inkl. alkoholfritt bubbel) \n\n\n\nTillgänglighetFöreställningen hålls i salongen och lokalen är tyvärr inte tillgänglighetsanpassad.
URL:https://hildasholm.org/en/event/hilda-musikteater-pa-hildasholm/
CATEGORIES:konsert
ATTACH;FMTTYPE=image/jpeg:https://hildasholm.org/wp-content/uploads/2026/03/Hilda-16-9.jpg
END:VEVENT
BEGIN:VEVENT
DTSTART;TZID=Europe/Paris:20260801T160000
DTEND;TZID=Europe/Paris:20260801T170000
DTSTAMP:20260424T140130
CREATED:20260319T112810Z
LAST-MODIFIED:20260319T123103Z
UID:3042-1785600000-1785603600@hildasholm.org
SUMMARY:Matiné: Hilda – musikteater på Hildasholm
DESCRIPTION:I sommar fyller vår Hilda 150 år och bjuder in till stort kalas! \n\n\n\nVälkomna att tillsammans med oss fira Hildas enastående kreativitet och hylla fantasin som meningsskapande kraft.  \n\n\n\nNi bjuds in till salong med musikteater av och med musikerna Sofia Sandén\, Johanna Dahl och Sara Fridholm\, med skådespelarna Sofia Rönnegård och Hilda Stenshäll\, i samarbete med Leksands marionett- och figurteaterförening.  \n\n\n\nEn upplevelse där vi slungas tillbaka i tiden och samtidigt in i den tidlösa sagovärld där vi alla är fria och mot en framtid där allt är möjligt! \n\n\n\nDatum och tider30 juli kl. 19.00 – premiär31 juli kl. 16.00 och 19.001 augusti kl. 16.00 och 19.00 \n\n\n\nPlatsHildasholm\, salongen \n\n\n\nBiljetterVuxen: 350 kr (inkl. alkoholfritt bubbel)Ungdom/student: 275 kr (inkl. alkoholfritt bubbel) \n\n\n\nTillgänglighetFöreställningen hålls i salongen och lokalen är tyvärr inte tillgänglighetsanpassad.
URL:https://hildasholm.org/en/event/matine-hilda-musikteater-pa-hildasholm/
CATEGORIES:konsert
ATTACH;FMTTYPE=image/jpeg:https://hildasholm.org/wp-content/uploads/2026/03/Hilda-16-9.jpg
END:VEVENT
BEGIN:VEVENT
DTSTART;TZID=Europe/Paris:20260801T190000
DTEND;TZID=Europe/Paris:20260801T200000
DTSTAMP:20260424T140130
CREATED:20260319T112824Z
LAST-MODIFIED:20260319T123041Z
UID:3043-1785610800-1785614400@hildasholm.org
SUMMARY:Hilda – musikteater på Hildasholm
DESCRIPTION:I sommar fyller vår Hilda 150 år och bjuder in till stort kalas! \n\n\n\nVälkomna att tillsammans med oss fira Hildas enastående kreativitet och hylla fantasin som meningsskapande kraft.  \n\n\n\nNi bjuds in till salong med musikteater av och med musikerna Sofia Sandén\, Johanna Dahl och Sara Fridholm\, med skådespelarna Sofia Rönnegård och Hilda Stenshäll\, i samarbete med Leksands marionett- och figurteaterförening.  \n\n\n\nEn upplevelse där vi slungas tillbaka i tiden och samtidigt in i den tidlösa sagovärld där vi alla är fria och mot en framtid där allt är möjligt! \n\n\n\nDatum och tider30 juli kl. 19.00 – premiär31 juli kl. 16.00 och 19.001 augusti kl. 16.00 och 19.00 \n\n\n\nPlatsHildasholm\, salongen \n\n\n\nBiljetterVuxen: 350 kr (inkl. alkoholfritt bubbel)Ungdom/student: 275 kr (inkl. alkoholfritt bubbel) \n\n\n\nTillgänglighetFöreställningen hålls i salongen och lokalen är tyvärr inte tillgänglighetsanpassad.
URL:https://hildasholm.org/en/event/hilda-musikteater-pa-hildasholm-2/
CATEGORIES:konsert
ATTACH;FMTTYPE=image/jpeg:https://hildasholm.org/wp-content/uploads/2026/03/Hilda-16-9.jpg
END:VEVENT
END:VCALENDAR